BEGIN:VCALENDAR
VERSION:2.0
PRODID:-// - ECPv6.15.13//NONSGML v1.0//EN
CALSCALE:GREGORIAN
METHOD:PUBLISH
X-ORIGINAL-URL:https://higherselfdiscovery.com
X-WR-CALDESC:Events for 
REFRESH-INTERVAL;VALUE=DURATION:PT1H
X-Robots-Tag:noindex
X-PUBLISHED-TTL:PT1H
BEGIN:VTIMEZONE
TZID:UTC
BEGIN:STANDARD
TZOFFSETFROM:+0000
TZOFFSETTO:+0000
TZNAME:UTC
DTSTART:20150101T000000
END:STANDARD
END:VTIMEZONE
BEGIN:VEVENT
DTSTART;TZID=UTC:20190714T100000
DTEND;TZID=UTC:20190714T200000
DTSTAMP:20260424T133505
CREATED:20190627T190433Z
LAST-MODIFIED:20190627T190945Z
UID:1236-1563098400-1563134400@higherselfdiscovery.com
SUMMARY:Intensive Seminar in Tokyo:  SELF DISCOVERY 1
DESCRIPTION:Intensive Seminar:  SELF DISCOVERY 1     Relax  – Energize  –  Connect to Your Higher Source \nSelf Discovery – Relaxation\, Self-Healing\, Empowering Aura and Chakras\, Body-Mind-Spirit Integration\, Enhancing Intuition\, Inner Child Healing\, Higher Consciousness\, Connecting to Spirit Guidance\, Becoming One with Your Higher Self\, Personal Enlightenment and Illumination. \nJuly 14 @ 10:00 am – 8:00 pm\nSponsored by Club World Ltd.     www.club-world.jp       03–6416–3705 \n  \n\n\n\n\n「 スピリチュアルであること、それは人間らしくあること」 \n\n\n\n\n聖地セドナ在住    クレッグ・ジュンジュラス \n\n\n\n\n「ハイヤーセルフディスカバリー」 主宰。セドナ在住。40 年以上に渡るスピリチュアリティの成長を 経て、2008年から 日本でセミナー、セッションを数多く開催し、特にセミナーの人気は非常に 高い。会場は、毎回たくさんのリピーターが溢れ、彼の大きな愛のあるエネルギーで包まれる \n\n\n\n\n\n\nクレッグが推進する定番基礎ワーク開催! \n\n\n\n\n\n□ 7/14(日) 基礎編 セルフディスカバリーレベル1(定員50名) \ 50\,000 10:00~20:00 TKP渋谷ガーデンシティ/東京 初心者~プロ 初回・再受講 再受講\10\,000 早割6/15迄¥45\,000 \n\n\n\n\n\n\n\n\n\n\n\n\n\n\n\n\n\n 
URL:https://higherselfdiscovery.com/event2/intensive-seminar-in-tokyo-self-discovery-1/
END:VEVENT
BEGIN:VEVENT
DTSTART;TZID=UTC:20190712T190000
DTEND;TZID=UTC:20190712T210000
DTSTAMP:20260424T133505
CREATED:20190627T182402Z
LAST-MODIFIED:20190627T190725Z
UID:1230-1562958000-1562965200@higherselfdiscovery.com
SUMMARY:Evening mini-seminar:  DISCOVER YOUR TRUE SELF
DESCRIPTION:Evening Mini-Seminar:  DISCOVER YOUR TRUE SELF – Love Yourself  –  Release Blocks  – Become Empowered. \nHigher Self Discovery teachings\, energy demonstrations\, self healing exercises\, and empowerment initiations. \nSponsored by Club World Ltd.     www.club-world.jp       03–6416–3705 \n\n\n\n\n\n\nひと味違う高級リゾート（アマンリゾート）やネイティブアメリカンの聖地（セドナ）ツアーなど、\n「癒し」をテーマにした海外旅行を提供しております。
URL:https://higherselfdiscovery.com/event2/evening-mini-seminar-discover-your-true-self/
END:VEVENT
BEGIN:VEVENT
DTSTART;VALUE=DATE:20171017
DTEND;VALUE=DATE:20171022
DTSTAMP:20260424T133505
CREATED:20170725T162601Z
LAST-MODIFIED:20170725T162601Z
UID:1213-1508198400-1508630399@higherselfdiscovery.com
SUMMARY:Sedona Lotus Retreat by Shia\, Atsuko and Craig
DESCRIPTION:Sedona Lotus Retreat-flier \nTo enhance your spiritual life and feel the joy of life with the three healers we bring you a special spirit treatment… \nCraig’s seminar\nShia and Atsuko’s workshop\nTrecking around Sedona\nSweat lodge ceremony
URL:https://higherselfdiscovery.com/event2/sedona-lotus-retreat-by-shia-atsuko-and-craig/
END:VEVENT
BEGIN:VEVENT
DTSTART;TZID=UTC:20160819T080000
DTEND;TZID=UTC:20160912T170000
DTSTAMP:20260424T133505
CREATED:20160405T025032Z
LAST-MODIFIED:20160405T025032Z
UID:907-1471593600-1473699600@higherselfdiscovery.com
SUMMARY:Tokyo (Club World)
DESCRIPTION:
URL:https://higherselfdiscovery.com/event2/tokyo-club-world/
END:VEVENT
BEGIN:VEVENT
DTSTART;TZID=UTC:20160815T080000
DTEND;TZID=UTC:20160818T170000
DTSTAMP:20260424T133505
CREATED:20160405T024919Z
LAST-MODIFIED:20160405T024919Z
UID:906-1471248000-1471539600@higherselfdiscovery.com
SUMMARY:Osaka (Mineo Akiyama)
DESCRIPTION:
URL:https://higherselfdiscovery.com/event2/osaka-mineo-akiyama/
END:VEVENT
BEGIN:VEVENT
DTSTART;TZID=UTC:20160801T080000
DTEND;TZID=UTC:20160814T170000
DTSTAMP:20260424T133505
CREATED:20160405T024812Z
LAST-MODIFIED:20160405T024812Z
UID:905-1470038400-1471194000@higherselfdiscovery.com
SUMMARY:Sagami-ono (Otsuki Holistic)
DESCRIPTION:
URL:https://higherselfdiscovery.com/event2/sagami-ono-otsuki-holistic/
END:VEVENT
BEGIN:VEVENT
DTSTART;TZID=UTC:20160730T080000
DTEND;TZID=UTC:20160731T170000
DTSTAMP:20260424T133505
CREATED:20160405T024632Z
LAST-MODIFIED:20160405T024632Z
UID:904-1469865600-1469984400@higherselfdiscovery.com
SUMMARY:Tokyo Yashi Fair
DESCRIPTION:
URL:https://higherselfdiscovery.com/event2/tokyo-yashi-fair/
END:VEVENT
BEGIN:VEVENT
DTSTART;TZID=UTC:20160718T080000
DTEND;TZID=UTC:20160728T170000
DTSTAMP:20260424T133505
CREATED:20160405T024454Z
LAST-MODIFIED:20160405T024454Z
UID:903-1468828800-1469725200@higherselfdiscovery.com
SUMMARY:Sapporo. (Club World)
DESCRIPTION:
URL:https://higherselfdiscovery.com/event2/sapporo-club-world/
END:VEVENT
END:VCALENDAR